BEGIN:VCALENDAR
VERSION:2.0
PRODID:spatie/icalendar-generator
DESCRIPTION:Veranstaltungen von sGem 63
X-WR-CALDESC:Veranstaltungen von sGem 63
REFRESH-INTERVAL;VALUE=DURATION:PT1440M
X-PUBLISHED-TTL:PT1440M
BEGIN:VTIMEZONE
TZID:Europe/Berlin
BEGIN:STANDARD
DTSTART:20251026T030000Z
TZOFFSETFROM:+0200
TZOFFSETTO:+0100
END:STANDARD
BEGIN:DAYLIGHT
DTSTART:20260329T020000Z
TZOFFSETFROM:+0100
TZOFFSETTO:+0200
END:DAYLIGHT
END:VTIMEZONE
BEGIN:VTIMEZONE
TZID:UTC
BEGIN:STANDARD
DTSTART:20250724T012427Z
TZOFFSETFROM:+0000
TZOFFSETTO:+0000
END:STANDARD
END:VTIMEZONE
BEGIN:VEVENT
UID:490-186
DTSTAMP:20260420T012427Z
SUMMARY:KK Auflage
LOCATION:
ORGANIZER;CN=admin:MAILTO:mpreiss@mp-it.com
DTSTART;TZID=Europe/Berlin:20260422T190000
DTEND;TZID=Europe/Berlin:20260422T200000
X-ALT-DESC;FMTTYPE=TEXT/HTML:Schützenbezirk 31 Rhein-Main KK Auflage 2 Mit
 twoch\, 22.04.2026 19:00 SG 06 Flörsheim 1 SG Muenster 1
CATEGORIES:Auswärts
URL;VALUE=URI:https://sgem1963muenster.de/mc-events/kk-auflage-9/
METHOD:PUBLISH
END:VEVENT
END:VCALENDAR