BEGIN:VCALENDAR
VERSION:2.0
PRODID:spatie/icalendar-generator
DESCRIPTION:Veranstaltungen von sGem 63
X-WR-CALDESC:Veranstaltungen von sGem 63
REFRESH-INTERVAL;VALUE=DURATION:PT1440M
X-PUBLISHED-TTL:PT1440M
BEGIN:VTIMEZONE
TZID:Europe/Berlin
BEGIN:STANDARD
DTSTART:20251026T030000Z
TZOFFSETFROM:+0200
TZOFFSETTO:+0100
END:STANDARD
BEGIN:DAYLIGHT
DTSTART:20260329T020000Z
TZOFFSETFROM:+0100
TZOFFSETTO:+0200
END:DAYLIGHT
BEGIN:STANDARD
DTSTART:20261025T030000Z
TZOFFSETFROM:+0200
TZOFFSETTO:+0100
END:STANDARD
END:VTIMEZONE
BEGIN:VTIMEZONE
TZID:UTC
BEGIN:STANDARD
DTSTART:20250724T012547Z
TZOFFSETFROM:+0000
TZOFFSETTO:+0000
END:STANDARD
END:VTIMEZONE
BEGIN:VEVENT
UID:504-199
DTSTAMP:20260420T012547Z
SUMMARY:Freie Pistole Liga
LOCATION:
ORGANIZER;CN=admin:MAILTO:mpreiss@mp-it.com
DTSTART;TZID=Europe/Berlin:20260426T100000
DTEND;TZID=Europe/Berlin:20260426T120000
X-ALT-DESC;FMTTYPE=TEXT/HTML:Freie Pistole 2026 / Verbandsliga Süd 1 Sonnt
 ag 26.04.2026 10:00 PSG Groß-Gerau 1 SG Münster/Ts. 1
CATEGORIES:Auswärts
URL;VALUE=URI:https://sgem1963muenster.de/mc-events/freie-pistole-liga-6/
METHOD:PUBLISH
END:VEVENT
END:VCALENDAR